BEGIN:VCALENDAR
VERSION:2.0
PRODID:icalendar-ruby
CALSCALE:GREGORIAN
METHOD:PUBLISH
BEGIN:VEVENT
DTSTAMP:20260424T121014Z
UID:8-326021@eudoraassembly.tithelysetup2.com
DTSTART:20261101T164500Z
DTEND:20261101T174500Z
CLASS:PUBLIC
CREATED:20260424T070409
DESCRIPTION:Everyone is welcome to Worship the Lord at ECC. Come as you are
 . We are just a family of believers seeking God each and every week. See y
 ou there! 
LAST-MODIFIED:20260424T070409
LOCATION:827 Elm Street Eudora\, KS 66025
SUMMARY:Sunday Worship Service
URL;VALUE=URI:https://eudorachurch.com/events/sunday-worship-service/2026-1
 1-01
END:VEVENT
END:VCALENDAR
