BEGIN:VCALENDAR
VERSION:2.0
PRODID:icalendar-ruby
CALSCALE:GREGORIAN
METHOD:PUBLISH
BEGIN:VEVENT
DTSTAMP:20260424T104436Z
UID:8-325768@eudoraassembly.tithelysetup2.com
DTSTART:20261025T154500Z
DTEND:20261025T164500Z
CLASS:PUBLIC
CREATED:20260423T213543
DESCRIPTION:Everyone is welcome to Worship the Lord at ECC. Come as you are
 . We are just a family of believers seeking God each and every week. See y
 ou there! 
LAST-MODIFIED:20260423T213543
LOCATION:827 Elm Street Eudora\, KS 66025
SUMMARY:Sunday Worship Service
URL;VALUE=URI:https://eudorachurch.com/events/sunday-worship-service/2026-1
 0-25
END:VEVENT
END:VCALENDAR
