BEGIN:VCALENDAR
VERSION:2.0
PRODID:icalendar-ruby
CALSCALE:GREGORIAN
METHOD:PUBLISH
BEGIN:VEVENT
DTSTAMP:20260424T090936Z
UID:16-325834@eudoraassembly.tithelysetup2.com
DTSTART:20261101T224500Z
DTEND:20261102T000000Z
CLASS:PUBLIC
CREATED:20260423T213543
DESCRIPTION:Calling All Middle School and High School Ladies!!\nECC is abou
 t to embark on a journey of growing your personal relationship with Jesus 
 EVERY Sunday at 4:45 BEFORE Youth Group. This group will be led by Stacy B
 allard who is beyond excited to lead you closer to God and deepen friendsh
 ips within our group of young woman at ECC. Please feel free to invite any
  middle school or high school aged girl to begin this journey with us. 
LAST-MODIFIED:20260423T213543
LOCATION:ECC
SUMMARY:D Group Youth Ladies
URL;VALUE=URI:https://eudorachurch.com/events/d-group-youth-ladies/2026-11-
 01
ATTACH;FILENAME=Screenshot-2025-08-08-at-3.24.34%E2%80%AFPM.png;FMTTYPE=ima
 ge/png:https://dq5pwpg1q8ru0.cloudfront.net/2025/08/08/21/24/08/1acbb3a6-3
 291-4d0d-94ed-64e8340f36cd/Screenshot-2025-08-08-at-3.24.34%25E2%2580%25AF
 PM.png
END:VEVENT
END:VCALENDAR
